BEGIN:VCALENDAR
VERSION:2.0
PRODID:-//Red Hill Farm Estate - ECPv6.15.20//NONSGML v1.0//EN
CALSCALE:GREGORIAN
METHOD:PUBLISH
X-ORIGINAL-URL:https://www.redhillestate.com
X-WR-CALDESC:Events for Red Hill Farm Estate
REFRESH-INTERVAL;VALUE=DURATION:PT1H
X-Robots-Tag:noindex
X-PUBLISHED-TTL:PT1H
BEGIN:VTIMEZONE
TZID:Europe/London
BEGIN:DAYLIGHT
TZOFFSETFROM:+0000
TZOFFSETTO:+0100
TZNAME:BST
DTSTART:20220327T010000
END:DAYLIGHT
BEGIN:STANDARD
TZOFFSETFROM:+0100
TZOFFSETTO:+0000
TZNAME:GMT
DTSTART:20221030T010000
END:STANDARD
BEGIN:DAYLIGHT
TZOFFSETFROM:+0000
TZOFFSETTO:+0100
TZNAME:BST
DTSTART:20230326T010000
END:DAYLIGHT
BEGIN:STANDARD
TZOFFSETFROM:+0100
TZOFFSETTO:+0000
TZNAME:GMT
DTSTART:20231029T010000
END:STANDARD
BEGIN:DAYLIGHT
TZOFFSETFROM:+0000
TZOFFSETTO:+0100
TZNAME:BST
DTSTART:20240331T010000
END:DAYLIGHT
BEGIN:STANDARD
TZOFFSETFROM:+0100
TZOFFSETTO:+0000
TZNAME:GMT
DTSTART:20241027T010000
END:STANDARD
END:VTIMEZONE
BEGIN:VEVENT
DTSTART;TZID=Europe/London:20230915T183000
DTEND;TZID=Europe/London:20230915T220000
DTSTAMP:20260419T212857
CREATED:20230304T141312Z
LAST-MODIFIED:20230305T133525Z
UID:13725-1694802600-1694815200@www.redhillestate.com
SUMMARY:Harvest Dinner
DESCRIPTION:Sparkling wine cocktail on reception…
URL:https://www.redhillestate.com/event/harvest-dinner/
LOCATION:Redhill Estate Vineyard\, 337 Redhill\, Wateringbury\, Kent\, ME185LB\, United Kingdom
ORGANIZER;CN="Redhill Farm Estate Ltd.":MAILTO:events@redhillestate.com
END:VEVENT
BEGIN:VEVENT
DTSTART;TZID=Europe/London:20230318T120000
DTEND;TZID=Europe/London:20230318T133000
DTSTAMP:20260419T212857
CREATED:20230305T133807Z
LAST-MODIFIED:20230305T134506Z
UID:13862-1679140800-1679146200@www.redhillestate.com
SUMMARY:Vineyard Tour & Tasting
DESCRIPTION:
URL:https://www.redhillestate.com/event/vineyard-tour-tasting/
LOCATION:Redhill Estate Vineyard\, 337 Redhill\, Wateringbury\, Kent\, ME185LB\, United Kingdom
END:VEVENT
END:VCALENDAR